BEGIN:VCALENDAR
VERSION:2.0
PRODID:-//Lincoln Way Vineyards - ECPv6.10.1.1//NONSGML v1.0//EN
CALSCALE:GREGORIAN
METHOD:PUBLISH
X-ORIGINAL-URL:https://lincolnwayvineyards.com
X-WR-CALDESC:Events for Lincoln Way Vineyards
REFRESH-INTERVAL;VALUE=DURATION:PT1H
X-Robots-Tag:noindex
X-PUBLISHED-TTL:PT1H
BEGIN:VTIMEZONE
TZID:America/Detroit
BEGIN:DAYLIGHT
TZOFFSETFROM:-0500
TZOFFSETTO:-0400
TZNAME:EDT
DTSTART:20260308T070000
END:DAYLIGHT
BEGIN:STANDARD
TZOFFSETFROM:-0400
TZOFFSETTO:-0500
TZNAME:EST
DTSTART:20261101T060000
END:STANDARD
END:VTIMEZONE
BEGIN:VEVENT
DTSTART;TZID=America/Detroit:20260516T080000
DTEND;TZID=America/Detroit:20260516T120000
DTSTAMP:20260423T040343
CREATED:20260313T182144Z
LAST-MODIFIED:20260313T182144Z
UID:10001941-1778918400-1778932800@lincolnwayvineyards.com
SUMMARY:Downtown Wooster Farmers' Market
DESCRIPTION:Stop by and visit our booth at the Downtown Wooster Farmers’ Market happening each Saturday from May 17th to October 4th\, from 8 am -to-12pm. \nLocated in the heart of Historic Downtown Wooster – North Market Street between Liberty Street and North Street \nFor more info visit\, https://www.mainstreetwooster.org/farmers-market.
URL:https://lincolnwayvineyards.com/event/downtown-wooster-farmers-market/2026-05-16/
LOCATION:Downtown Wooster\, 377 West Liberty Street\, Wooster\, OH\, 44691\, United States
CATEGORIES:Farmers Market
ATTACH;FMTTYPE=image/webp:https://lincolnwayvineyards.com/wp-content/uploads/2026/03/Downtown-Wooster.webp
END:VEVENT
BEGIN:VEVENT
DTSTART;TZID=America/Detroit:20260523T080000
DTEND;TZID=America/Detroit:20260523T120000
DTSTAMP:20260423T040343
CREATED:20260313T182144Z
LAST-MODIFIED:20260313T182144Z
UID:10001942-1779523200-1779537600@lincolnwayvineyards.com
SUMMARY:Downtown Wooster Farmers' Market
DESCRIPTION:Stop by and visit our booth at the Downtown Wooster Farmers’ Market happening each Saturday from May 17th to October 4th\, from 8 am -to-12pm. \nLocated in the heart of Historic Downtown Wooster – North Market Street between Liberty Street and North Street \nFor more info visit\, https://www.mainstreetwooster.org/farmers-market.
URL:https://lincolnwayvineyards.com/event/downtown-wooster-farmers-market/2026-05-23/
LOCATION:Downtown Wooster\, 377 West Liberty Street\, Wooster\, OH\, 44691\, United States
CATEGORIES:Farmers Market
ATTACH;FMTTYPE=image/webp:https://lincolnwayvineyards.com/wp-content/uploads/2026/03/Downtown-Wooster.webp
END:VEVENT
BEGIN:VEVENT
DTSTART;TZID=America/Detroit:20260530T080000
DTEND;TZID=America/Detroit:20260530T120000
DTSTAMP:20260423T040343
CREATED:20260313T182144Z
LAST-MODIFIED:20260313T182144Z
UID:10001943-1780128000-1780142400@lincolnwayvineyards.com
SUMMARY:Downtown Wooster Farmers' Market
DESCRIPTION:Stop by and visit our booth at the Downtown Wooster Farmers’ Market happening each Saturday from May 17th to October 4th\, from 8 am -to-12pm. \nLocated in the heart of Historic Downtown Wooster – North Market Street between Liberty Street and North Street \nFor more info visit\, https://www.mainstreetwooster.org/farmers-market.
URL:https://lincolnwayvineyards.com/event/downtown-wooster-farmers-market/2026-05-30/
LOCATION:Downtown Wooster\, 377 West Liberty Street\, Wooster\, OH\, 44691\, United States
CATEGORIES:Farmers Market
ATTACH;FMTTYPE=image/webp:https://lincolnwayvineyards.com/wp-content/uploads/2026/03/Downtown-Wooster.webp
END:VEVENT
BEGIN:VEVENT
DTSTART;TZID=America/Detroit:20260606T080000
DTEND;TZID=America/Detroit:20260606T120000
DTSTAMP:20260423T040343
CREATED:20260313T182144Z
LAST-MODIFIED:20260313T182144Z
UID:10001944-1780732800-1780747200@lincolnwayvineyards.com
SUMMARY:Downtown Wooster Farmers' Market
DESCRIPTION:Stop by and visit our booth at the Downtown Wooster Farmers’ Market happening each Saturday from May 17th to October 4th\, from 8 am -to-12pm. \nLocated in the heart of Historic Downtown Wooster – North Market Street between Liberty Street and North Street \nFor more info visit\, https://www.mainstreetwooster.org/farmers-market.
URL:https://lincolnwayvineyards.com/event/downtown-wooster-farmers-market/2026-06-06/
LOCATION:Downtown Wooster\, 377 West Liberty Street\, Wooster\, OH\, 44691\, United States
CATEGORIES:Farmers Market
ATTACH;FMTTYPE=image/webp:https://lincolnwayvineyards.com/wp-content/uploads/2026/03/Downtown-Wooster.webp
END:VEVENT
BEGIN:VEVENT
DTSTART;TZID=America/Detroit:20260613T080000
DTEND;TZID=America/Detroit:20260613T120000
DTSTAMP:20260423T040343
CREATED:20260313T182144Z
LAST-MODIFIED:20260313T182144Z
UID:10001945-1781337600-1781352000@lincolnwayvineyards.com
SUMMARY:Downtown Wooster Farmers' Market
DESCRIPTION:Stop by and visit our booth at the Downtown Wooster Farmers’ Market happening each Saturday from May 17th to October 4th\, from 8 am -to-12pm. \nLocated in the heart of Historic Downtown Wooster – North Market Street between Liberty Street and North Street \nFor more info visit\, https://www.mainstreetwooster.org/farmers-market.
URL:https://lincolnwayvineyards.com/event/downtown-wooster-farmers-market/2026-06-13/
LOCATION:Downtown Wooster\, 377 West Liberty Street\, Wooster\, OH\, 44691\, United States
CATEGORIES:Farmers Market
ATTACH;FMTTYPE=image/webp:https://lincolnwayvineyards.com/wp-content/uploads/2026/03/Downtown-Wooster.webp
END:VEVENT
BEGIN:VEVENT
DTSTART;TZID=America/Detroit:20260620T080000
DTEND;TZID=America/Detroit:20260620T120000
DTSTAMP:20260423T040343
CREATED:20260313T182144Z
LAST-MODIFIED:20260313T182144Z
UID:10001946-1781942400-1781956800@lincolnwayvineyards.com
SUMMARY:Downtown Wooster Farmers' Market
DESCRIPTION:Stop by and visit our booth at the Downtown Wooster Farmers’ Market happening each Saturday from May 17th to October 4th\, from 8 am -to-12pm. \nLocated in the heart of Historic Downtown Wooster – North Market Street between Liberty Street and North Street \nFor more info visit\, https://www.mainstreetwooster.org/farmers-market.
URL:https://lincolnwayvineyards.com/event/downtown-wooster-farmers-market/2026-06-20/
LOCATION:Downtown Wooster\, 377 West Liberty Street\, Wooster\, OH\, 44691\, United States
CATEGORIES:Farmers Market
ATTACH;FMTTYPE=image/webp:https://lincolnwayvineyards.com/wp-content/uploads/2026/03/Downtown-Wooster.webp
END:VEVENT
BEGIN:VEVENT
DTSTART;TZID=America/Detroit:20260627T080000
DTEND;TZID=America/Detroit:20260627T120000
DTSTAMP:20260423T040343
CREATED:20260313T182144Z
LAST-MODIFIED:20260313T182144Z
UID:10001947-1782547200-1782561600@lincolnwayvineyards.com
SUMMARY:Downtown Wooster Farmers' Market
DESCRIPTION:Stop by and visit our booth at the Downtown Wooster Farmers’ Market happening each Saturday from May 17th to October 4th\, from 8 am -to-12pm. \nLocated in the heart of Historic Downtown Wooster – North Market Street between Liberty Street and North Street \nFor more info visit\, https://www.mainstreetwooster.org/farmers-market.
URL:https://lincolnwayvineyards.com/event/downtown-wooster-farmers-market/2026-06-27/
LOCATION:Downtown Wooster\, 377 West Liberty Street\, Wooster\, OH\, 44691\, United States
CATEGORIES:Farmers Market
ATTACH;FMTTYPE=image/webp:https://lincolnwayvineyards.com/wp-content/uploads/2026/03/Downtown-Wooster.webp
END:VEVENT
BEGIN:VEVENT
DTSTART;TZID=America/Detroit:20260704T080000
DTEND;TZID=America/Detroit:20260704T120000
DTSTAMP:20260423T040343
CREATED:20260313T182144Z
LAST-MODIFIED:20260313T182144Z
UID:10001948-1783152000-1783166400@lincolnwayvineyards.com
SUMMARY:Downtown Wooster Farmers' Market
DESCRIPTION:Stop by and visit our booth at the Downtown Wooster Farmers’ Market happening each Saturday from May 17th to October 4th\, from 8 am -to-12pm. \nLocated in the heart of Historic Downtown Wooster – North Market Street between Liberty Street and North Street \nFor more info visit\, https://www.mainstreetwooster.org/farmers-market.
URL:https://lincolnwayvineyards.com/event/downtown-wooster-farmers-market/2026-07-04/
LOCATION:Downtown Wooster\, 377 West Liberty Street\, Wooster\, OH\, 44691\, United States
CATEGORIES:Farmers Market
ATTACH;FMTTYPE=image/webp:https://lincolnwayvineyards.com/wp-content/uploads/2026/03/Downtown-Wooster.webp
END:VEVENT
BEGIN:VEVENT
DTSTART;TZID=America/Detroit:20260711T080000
DTEND;TZID=America/Detroit:20260711T120000
DTSTAMP:20260423T040343
CREATED:20260313T182144Z
LAST-MODIFIED:20260313T182144Z
UID:10001949-1783756800-1783771200@lincolnwayvineyards.com
SUMMARY:Downtown Wooster Farmers' Market
DESCRIPTION:Stop by and visit our booth at the Downtown Wooster Farmers’ Market happening each Saturday from May 17th to October 4th\, from 8 am -to-12pm. \nLocated in the heart of Historic Downtown Wooster – North Market Street between Liberty Street and North Street \nFor more info visit\, https://www.mainstreetwooster.org/farmers-market.
URL:https://lincolnwayvineyards.com/event/downtown-wooster-farmers-market/2026-07-11/
LOCATION:Downtown Wooster\, 377 West Liberty Street\, Wooster\, OH\, 44691\, United States
CATEGORIES:Farmers Market
ATTACH;FMTTYPE=image/webp:https://lincolnwayvineyards.com/wp-content/uploads/2026/03/Downtown-Wooster.webp
END:VEVENT
BEGIN:VEVENT
DTSTART;TZID=America/Detroit:20260718T080000
DTEND;TZID=America/Detroit:20260718T120000
DTSTAMP:20260423T040343
CREATED:20260313T182144Z
LAST-MODIFIED:20260313T182144Z
UID:10001950-1784361600-1784376000@lincolnwayvineyards.com
SUMMARY:Downtown Wooster Farmers' Market
DESCRIPTION:Stop by and visit our booth at the Downtown Wooster Farmers’ Market happening each Saturday from May 17th to October 4th\, from 8 am -to-12pm. \nLocated in the heart of Historic Downtown Wooster – North Market Street between Liberty Street and North Street \nFor more info visit\, https://www.mainstreetwooster.org/farmers-market.
URL:https://lincolnwayvineyards.com/event/downtown-wooster-farmers-market/2026-07-18/
LOCATION:Downtown Wooster\, 377 West Liberty Street\, Wooster\, OH\, 44691\, United States
CATEGORIES:Farmers Market
ATTACH;FMTTYPE=image/webp:https://lincolnwayvineyards.com/wp-content/uploads/2026/03/Downtown-Wooster.webp
END:VEVENT
BEGIN:VEVENT
DTSTART;TZID=America/Detroit:20260725T080000
DTEND;TZID=America/Detroit:20260725T120000
DTSTAMP:20260423T040343
CREATED:20260313T182144Z
LAST-MODIFIED:20260313T182144Z
UID:10001951-1784966400-1784980800@lincolnwayvineyards.com
SUMMARY:Downtown Wooster Farmers' Market
DESCRIPTION:Stop by and visit our booth at the Downtown Wooster Farmers’ Market happening each Saturday from May 17th to October 4th\, from 8 am -to-12pm. \nLocated in the heart of Historic Downtown Wooster – North Market Street between Liberty Street and North Street \nFor more info visit\, https://www.mainstreetwooster.org/farmers-market.
URL:https://lincolnwayvineyards.com/event/downtown-wooster-farmers-market/2026-07-25/
LOCATION:Downtown Wooster\, 377 West Liberty Street\, Wooster\, OH\, 44691\, United States
CATEGORIES:Farmers Market
ATTACH;FMTTYPE=image/webp:https://lincolnwayvineyards.com/wp-content/uploads/2026/03/Downtown-Wooster.webp
END:VEVENT
BEGIN:VEVENT
DTSTART;TZID=America/Detroit:20260801T080000
DTEND;TZID=America/Detroit:20260801T120000
DTSTAMP:20260423T040343
CREATED:20260313T182144Z
LAST-MODIFIED:20260313T182144Z
UID:10001952-1785571200-1785585600@lincolnwayvineyards.com
SUMMARY:Downtown Wooster Farmers' Market
DESCRIPTION:Stop by and visit our booth at the Downtown Wooster Farmers’ Market happening each Saturday from May 17th to October 4th\, from 8 am -to-12pm. \nLocated in the heart of Historic Downtown Wooster – North Market Street between Liberty Street and North Street \nFor more info visit\, https://www.mainstreetwooster.org/farmers-market.
URL:https://lincolnwayvineyards.com/event/downtown-wooster-farmers-market/2026-08-01/
LOCATION:Downtown Wooster\, 377 West Liberty Street\, Wooster\, OH\, 44691\, United States
CATEGORIES:Farmers Market
ATTACH;FMTTYPE=image/webp:https://lincolnwayvineyards.com/wp-content/uploads/2026/03/Downtown-Wooster.webp
END:VEVENT
BEGIN:VEVENT
DTSTART;TZID=America/Detroit:20260808T080000
DTEND;TZID=America/Detroit:20260808T120000
DTSTAMP:20260423T040343
CREATED:20260313T182144Z
LAST-MODIFIED:20260313T182144Z
UID:10001953-1786176000-1786190400@lincolnwayvineyards.com
SUMMARY:Downtown Wooster Farmers' Market
DESCRIPTION:Stop by and visit our booth at the Downtown Wooster Farmers’ Market happening each Saturday from May 17th to October 4th\, from 8 am -to-12pm. \nLocated in the heart of Historic Downtown Wooster – North Market Street between Liberty Street and North Street \nFor more info visit\, https://www.mainstreetwooster.org/farmers-market.
URL:https://lincolnwayvineyards.com/event/downtown-wooster-farmers-market/2026-08-08/
LOCATION:Downtown Wooster\, 377 West Liberty Street\, Wooster\, OH\, 44691\, United States
CATEGORIES:Farmers Market
ATTACH;FMTTYPE=image/webp:https://lincolnwayvineyards.com/wp-content/uploads/2026/03/Downtown-Wooster.webp
END:VEVENT
BEGIN:VEVENT
DTSTART;TZID=America/Detroit:20260815T080000
DTEND;TZID=America/Detroit:20260815T120000
DTSTAMP:20260423T040343
CREATED:20260313T182144Z
LAST-MODIFIED:20260313T182144Z
UID:10001954-1786780800-1786795200@lincolnwayvineyards.com
SUMMARY:Downtown Wooster Farmers' Market
DESCRIPTION:Stop by and visit our booth at the Downtown Wooster Farmers’ Market happening each Saturday from May 17th to October 4th\, from 8 am -to-12pm. \nLocated in the heart of Historic Downtown Wooster – North Market Street between Liberty Street and North Street \nFor more info visit\, https://www.mainstreetwooster.org/farmers-market.
URL:https://lincolnwayvineyards.com/event/downtown-wooster-farmers-market/2026-08-15/
LOCATION:Downtown Wooster\, 377 West Liberty Street\, Wooster\, OH\, 44691\, United States
CATEGORIES:Farmers Market
ATTACH;FMTTYPE=image/webp:https://lincolnwayvineyards.com/wp-content/uploads/2026/03/Downtown-Wooster.webp
END:VEVENT
BEGIN:VEVENT
DTSTART;TZID=America/Detroit:20260822T080000
DTEND;TZID=America/Detroit:20260822T120000
DTSTAMP:20260423T040343
CREATED:20260313T182144Z
LAST-MODIFIED:20260313T182144Z
UID:10001955-1787385600-1787400000@lincolnwayvineyards.com
SUMMARY:Downtown Wooster Farmers' Market
DESCRIPTION:Stop by and visit our booth at the Downtown Wooster Farmers’ Market happening each Saturday from May 17th to October 4th\, from 8 am -to-12pm. \nLocated in the heart of Historic Downtown Wooster – North Market Street between Liberty Street and North Street \nFor more info visit\, https://www.mainstreetwooster.org/farmers-market.
URL:https://lincolnwayvineyards.com/event/downtown-wooster-farmers-market/2026-08-22/
LOCATION:Downtown Wooster\, 377 West Liberty Street\, Wooster\, OH\, 44691\, United States
CATEGORIES:Farmers Market
ATTACH;FMTTYPE=image/webp:https://lincolnwayvineyards.com/wp-content/uploads/2026/03/Downtown-Wooster.webp
END:VEVENT
BEGIN:VEVENT
DTSTART;TZID=America/Detroit:20260829T080000
DTEND;TZID=America/Detroit:20260829T120000
DTSTAMP:20260423T040343
CREATED:20260313T182144Z
LAST-MODIFIED:20260313T182144Z
UID:10001956-1787990400-1788004800@lincolnwayvineyards.com
SUMMARY:Downtown Wooster Farmers' Market
DESCRIPTION:Stop by and visit our booth at the Downtown Wooster Farmers’ Market happening each Saturday from May 17th to October 4th\, from 8 am -to-12pm. \nLocated in the heart of Historic Downtown Wooster – North Market Street between Liberty Street and North Street \nFor more info visit\, https://www.mainstreetwooster.org/farmers-market.
URL:https://lincolnwayvineyards.com/event/downtown-wooster-farmers-market/2026-08-29/
LOCATION:Downtown Wooster\, 377 West Liberty Street\, Wooster\, OH\, 44691\, United States
CATEGORIES:Farmers Market
ATTACH;FMTTYPE=image/webp:https://lincolnwayvineyards.com/wp-content/uploads/2026/03/Downtown-Wooster.webp
END:VEVENT
BEGIN:VEVENT
DTSTART;TZID=America/Detroit:20260905T080000
DTEND;TZID=America/Detroit:20260905T120000
DTSTAMP:20260423T040343
CREATED:20260313T182144Z
LAST-MODIFIED:20260313T182144Z
UID:10001957-1788595200-1788609600@lincolnwayvineyards.com
SUMMARY:Downtown Wooster Farmers' Market
DESCRIPTION:Stop by and visit our booth at the Downtown Wooster Farmers’ Market happening each Saturday from May 17th to October 4th\, from 8 am -to-12pm. \nLocated in the heart of Historic Downtown Wooster – North Market Street between Liberty Street and North Street \nFor more info visit\, https://www.mainstreetwooster.org/farmers-market.
URL:https://lincolnwayvineyards.com/event/downtown-wooster-farmers-market/2026-09-05/
LOCATION:Downtown Wooster\, 377 West Liberty Street\, Wooster\, OH\, 44691\, United States
CATEGORIES:Farmers Market
ATTACH;FMTTYPE=image/webp:https://lincolnwayvineyards.com/wp-content/uploads/2026/03/Downtown-Wooster.webp
END:VEVENT
BEGIN:VEVENT
DTSTART;TZID=America/Detroit:20260912T080000
DTEND;TZID=America/Detroit:20260912T120000
DTSTAMP:20260423T040343
CREATED:20260313T182144Z
LAST-MODIFIED:20260313T182144Z
UID:10001958-1789200000-1789214400@lincolnwayvineyards.com
SUMMARY:Downtown Wooster Farmers' Market
DESCRIPTION:Stop by and visit our booth at the Downtown Wooster Farmers’ Market happening each Saturday from May 17th to October 4th\, from 8 am -to-12pm. \nLocated in the heart of Historic Downtown Wooster – North Market Street between Liberty Street and North Street \nFor more info visit\, https://www.mainstreetwooster.org/farmers-market.
URL:https://lincolnwayvineyards.com/event/downtown-wooster-farmers-market/2026-09-12/
LOCATION:Downtown Wooster\, 377 West Liberty Street\, Wooster\, OH\, 44691\, United States
CATEGORIES:Farmers Market
ATTACH;FMTTYPE=image/webp:https://lincolnwayvineyards.com/wp-content/uploads/2026/03/Downtown-Wooster.webp
END:VEVENT
BEGIN:VEVENT
DTSTART;TZID=America/Detroit:20260919T080000
DTEND;TZID=America/Detroit:20260919T120000
DTSTAMP:20260423T040343
CREATED:20260313T182144Z
LAST-MODIFIED:20260313T182144Z
UID:10001959-1789804800-1789819200@lincolnwayvineyards.com
SUMMARY:Downtown Wooster Farmers' Market
DESCRIPTION:Stop by and visit our booth at the Downtown Wooster Farmers’ Market happening each Saturday from May 17th to October 4th\, from 8 am -to-12pm. \nLocated in the heart of Historic Downtown Wooster – North Market Street between Liberty Street and North Street \nFor more info visit\, https://www.mainstreetwooster.org/farmers-market.
URL:https://lincolnwayvineyards.com/event/downtown-wooster-farmers-market/2026-09-19/
LOCATION:Downtown Wooster\, 377 West Liberty Street\, Wooster\, OH\, 44691\, United States
CATEGORIES:Farmers Market
ATTACH;FMTTYPE=image/webp:https://lincolnwayvineyards.com/wp-content/uploads/2026/03/Downtown-Wooster.webp
END:VEVENT
BEGIN:VEVENT
DTSTART;TZID=America/Detroit:20260926T080000
DTEND;TZID=America/Detroit:20260926T120000
DTSTAMP:20260423T040343
CREATED:20260313T182144Z
LAST-MODIFIED:20260313T182144Z
UID:10001960-1790409600-1790424000@lincolnwayvineyards.com
SUMMARY:Downtown Wooster Farmers' Market
DESCRIPTION:Stop by and visit our booth at the Downtown Wooster Farmers’ Market happening each Saturday from May 17th to October 4th\, from 8 am -to-12pm. \nLocated in the heart of Historic Downtown Wooster – North Market Street between Liberty Street and North Street \nFor more info visit\, https://www.mainstreetwooster.org/farmers-market.
URL:https://lincolnwayvineyards.com/event/downtown-wooster-farmers-market/2026-09-26/
LOCATION:Downtown Wooster\, 377 West Liberty Street\, Wooster\, OH\, 44691\, United States
CATEGORIES:Farmers Market
ATTACH;FMTTYPE=image/webp:https://lincolnwayvineyards.com/wp-content/uploads/2026/03/Downtown-Wooster.webp
END:VEVENT
BEGIN:VEVENT
DTSTART;TZID=America/Detroit:20261003T080000
DTEND;TZID=America/Detroit:20261003T120000
DTSTAMP:20260423T040343
CREATED:20260313T182144Z
LAST-MODIFIED:20260313T182144Z
UID:10001961-1791014400-1791028800@lincolnwayvineyards.com
SUMMARY:Downtown Wooster Farmers' Market
DESCRIPTION:Stop by and visit our booth at the Downtown Wooster Farmers’ Market happening each Saturday from May 17th to October 4th\, from 8 am -to-12pm. \nLocated in the heart of Historic Downtown Wooster – North Market Street between Liberty Street and North Street \nFor more info visit\, https://www.mainstreetwooster.org/farmers-market.
URL:https://lincolnwayvineyards.com/event/downtown-wooster-farmers-market/2026-10-03/
LOCATION:Downtown Wooster\, 377 West Liberty Street\, Wooster\, OH\, 44691\, United States
CATEGORIES:Farmers Market
ATTACH;FMTTYPE=image/webp:https://lincolnwayvineyards.com/wp-content/uploads/2026/03/Downtown-Wooster.webp
END:VEVENT
BEGIN:VEVENT
DTSTART;TZID=America/Detroit:20261010T080000
DTEND;TZID=America/Detroit:20261010T120000
DTSTAMP:20260423T040343
CREATED:20260313T182144Z
LAST-MODIFIED:20260313T182144Z
UID:10001962-1791619200-1791633600@lincolnwayvineyards.com
SUMMARY:Downtown Wooster Farmers' Market
DESCRIPTION:Stop by and visit our booth at the Downtown Wooster Farmers’ Market happening each Saturday from May 17th to October 4th\, from 8 am -to-12pm. \nLocated in the heart of Historic Downtown Wooster – North Market Street between Liberty Street and North Street \nFor more info visit\, https://www.mainstreetwooster.org/farmers-market.
URL:https://lincolnwayvineyards.com/event/downtown-wooster-farmers-market/2026-10-10/
LOCATION:Downtown Wooster\, 377 West Liberty Street\, Wooster\, OH\, 44691\, United States
CATEGORIES:Farmers Market
ATTACH;FMTTYPE=image/webp:https://lincolnwayvineyards.com/wp-content/uploads/2026/03/Downtown-Wooster.webp
END:VEVENT
BEGIN:VEVENT
DTSTART;TZID=America/Detroit:20261017T080000
DTEND;TZID=America/Detroit:20261017T120000
DTSTAMP:20260423T040343
CREATED:20260313T182144Z
LAST-MODIFIED:20260313T182144Z
UID:10001963-1792224000-1792238400@lincolnwayvineyards.com
SUMMARY:Downtown Wooster Farmers' Market
DESCRIPTION:Stop by and visit our booth at the Downtown Wooster Farmers’ Market happening each Saturday from May 17th to October 4th\, from 8 am -to-12pm. \nLocated in the heart of Historic Downtown Wooster – North Market Street between Liberty Street and North Street \nFor more info visit\, https://www.mainstreetwooster.org/farmers-market.
URL:https://lincolnwayvineyards.com/event/downtown-wooster-farmers-market/2026-10-17/
LOCATION:Downtown Wooster\, 377 West Liberty Street\, Wooster\, OH\, 44691\, United States
CATEGORIES:Farmers Market
ATTACH;FMTTYPE=image/webp:https://lincolnwayvineyards.com/wp-content/uploads/2026/03/Downtown-Wooster.webp
END:VEVENT
BEGIN:VEVENT
DTSTART;TZID=America/Detroit:20261024T080000
DTEND;TZID=America/Detroit:20261024T120000
DTSTAMP:20260423T040343
CREATED:20260313T182144Z
LAST-MODIFIED:20260313T182144Z
UID:10001964-1792828800-1792843200@lincolnwayvineyards.com
SUMMARY:Downtown Wooster Farmers' Market
DESCRIPTION:Stop by and visit our booth at the Downtown Wooster Farmers’ Market happening each Saturday from May 17th to October 4th\, from 8 am -to-12pm. \nLocated in the heart of Historic Downtown Wooster – North Market Street between Liberty Street and North Street \nFor more info visit\, https://www.mainstreetwooster.org/farmers-market.
URL:https://lincolnwayvineyards.com/event/downtown-wooster-farmers-market/2026-10-24/
LOCATION:Downtown Wooster\, 377 West Liberty Street\, Wooster\, OH\, 44691\, United States
CATEGORIES:Farmers Market
ATTACH;FMTTYPE=image/webp:https://lincolnwayvineyards.com/wp-content/uploads/2026/03/Downtown-Wooster.webp
END:VEVENT
BEGIN:VEVENT
DTSTART;TZID=America/Detroit:20261031T080000
DTEND;TZID=America/Detroit:20261031T120000
DTSTAMP:20260423T040343
CREATED:20260313T182144Z
LAST-MODIFIED:20260313T182144Z
UID:10001965-1793433600-1793448000@lincolnwayvineyards.com
SUMMARY:Downtown Wooster Farmers' Market
DESCRIPTION:Stop by and visit our booth at the Downtown Wooster Farmers’ Market happening each Saturday from May 17th to October 4th\, from 8 am -to-12pm. \nLocated in the heart of Historic Downtown Wooster – North Market Street between Liberty Street and North Street \nFor more info visit\, https://www.mainstreetwooster.org/farmers-market.
URL:https://lincolnwayvineyards.com/event/downtown-wooster-farmers-market/2026-10-31/
LOCATION:Downtown Wooster\, 377 West Liberty Street\, Wooster\, OH\, 44691\, United States
CATEGORIES:Farmers Market
ATTACH;FMTTYPE=image/webp:https://lincolnwayvineyards.com/wp-content/uploads/2026/03/Downtown-Wooster.webp
END:VEVENT
BEGIN:VEVENT
DTSTART;TZID=America/Detroit:20261107T080000
DTEND;TZID=America/Detroit:20261107T120000
DTSTAMP:20260423T040343
CREATED:20260313T182144Z
LAST-MODIFIED:20260313T182144Z
UID:10001966-1794038400-1794052800@lincolnwayvineyards.com
SUMMARY:Downtown Wooster Farmers' Market
DESCRIPTION:Stop by and visit our booth at the Downtown Wooster Farmers’ Market happening each Saturday from May 17th to October 4th\, from 8 am -to-12pm. \nLocated in the heart of Historic Downtown Wooster – North Market Street between Liberty Street and North Street \nFor more info visit\, https://www.mainstreetwooster.org/farmers-market.
URL:https://lincolnwayvineyards.com/event/downtown-wooster-farmers-market/2026-11-07/
LOCATION:Downtown Wooster\, 377 West Liberty Street\, Wooster\, OH\, 44691\, United States
CATEGORIES:Farmers Market
ATTACH;FMTTYPE=image/webp:https://lincolnwayvineyards.com/wp-content/uploads/2026/03/Downtown-Wooster.webp
END:VEVENT
BEGIN:VEVENT
DTSTART;TZID=America/Detroit:20261114T080000
DTEND;TZID=America/Detroit:20261114T120000
DTSTAMP:20260423T040343
CREATED:20260313T182144Z
LAST-MODIFIED:20260313T182144Z
UID:10001967-1794643200-1794657600@lincolnwayvineyards.com
SUMMARY:Downtown Wooster Farmers' Market
DESCRIPTION:Stop by and visit our booth at the Downtown Wooster Farmers’ Market happening each Saturday from May 17th to October 4th\, from 8 am -to-12pm. \nLocated in the heart of Historic Downtown Wooster – North Market Street between Liberty Street and North Street \nFor more info visit\, https://www.mainstreetwooster.org/farmers-market.
URL:https://lincolnwayvineyards.com/event/downtown-wooster-farmers-market/2026-11-14/
LOCATION:Downtown Wooster\, 377 West Liberty Street\, Wooster\, OH\, 44691\, United States
CATEGORIES:Farmers Market
ATTACH;FMTTYPE=image/webp:https://lincolnwayvineyards.com/wp-content/uploads/2026/03/Downtown-Wooster.webp
END:VEVENT
BEGIN:VEVENT
DTSTART;TZID=America/Detroit:20261121T080000
DTEND;TZID=America/Detroit:20261121T120000
DTSTAMP:20260423T040343
CREATED:20260313T182144Z
LAST-MODIFIED:20260313T182144Z
UID:10001968-1795248000-1795262400@lincolnwayvineyards.com
SUMMARY:Downtown Wooster Farmers' Market
DESCRIPTION:Stop by and visit our booth at the Downtown Wooster Farmers’ Market happening each Saturday from May 17th to October 4th\, from 8 am -to-12pm. \nLocated in the heart of Historic Downtown Wooster – North Market Street between Liberty Street and North Street \nFor more info visit\, https://www.mainstreetwooster.org/farmers-market.
URL:https://lincolnwayvineyards.com/event/downtown-wooster-farmers-market/2026-11-21/
LOCATION:Downtown Wooster\, 377 West Liberty Street\, Wooster\, OH\, 44691\, United States
CATEGORIES:Farmers Market
ATTACH;FMTTYPE=image/webp:https://lincolnwayvineyards.com/wp-content/uploads/2026/03/Downtown-Wooster.webp
END:VEVENT
BEGIN:VEVENT
DTSTART;TZID=America/Detroit:20261128T080000
DTEND;TZID=America/Detroit:20261128T120000
DTSTAMP:20260423T040343
CREATED:20260313T182144Z
LAST-MODIFIED:20260313T182144Z
UID:10001969-1795852800-1795867200@lincolnwayvineyards.com
SUMMARY:Downtown Wooster Farmers' Market
DESCRIPTION:Stop by and visit our booth at the Downtown Wooster Farmers’ Market happening each Saturday from May 17th to October 4th\, from 8 am -to-12pm. \nLocated in the heart of Historic Downtown Wooster – North Market Street between Liberty Street and North Street \nFor more info visit\, https://www.mainstreetwooster.org/farmers-market.
URL:https://lincolnwayvineyards.com/event/downtown-wooster-farmers-market/2026-11-28/
LOCATION:Downtown Wooster\, 377 West Liberty Street\, Wooster\, OH\, 44691\, United States
CATEGORIES:Farmers Market
ATTACH;FMTTYPE=image/webp:https://lincolnwayvineyards.com/wp-content/uploads/2026/03/Downtown-Wooster.webp
END:VEVENT
BEGIN:VEVENT
DTSTART;TZID=America/Detroit:20261205T080000
DTEND;TZID=America/Detroit:20261205T120000
DTSTAMP:20260423T040343
CREATED:20260313T182144Z
LAST-MODIFIED:20260313T182144Z
UID:10001970-1796457600-1796472000@lincolnwayvineyards.com
SUMMARY:Downtown Wooster Farmers' Market
DESCRIPTION:Stop by and visit our booth at the Downtown Wooster Farmers’ Market happening each Saturday from May 17th to October 4th\, from 8 am -to-12pm. \nLocated in the heart of Historic Downtown Wooster – North Market Street between Liberty Street and North Street \nFor more info visit\, https://www.mainstreetwooster.org/farmers-market.
URL:https://lincolnwayvineyards.com/event/downtown-wooster-farmers-market/2026-12-05/
LOCATION:Downtown Wooster\, 377 West Liberty Street\, Wooster\, OH\, 44691\, United States
CATEGORIES:Farmers Market
ATTACH;FMTTYPE=image/webp:https://lincolnwayvineyards.com/wp-content/uploads/2026/03/Downtown-Wooster.webp
END:VEVENT
END:VCALENDAR