BEGIN:VCALENDAR
VERSION:2.0
PRODID:-//Lincoln Way Vineyards - ECPv6.10.1.1//NONSGML v1.0//EN
CALSCALE:GREGORIAN
METHOD:PUBLISH
X-WR-CALNAME:Lincoln Way Vineyards
X-ORIGINAL-URL:https://lincolnwayvineyards.com
X-WR-CALDESC:Events for Lincoln Way Vineyards
REFRESH-INTERVAL;VALUE=DURATION:PT1H
X-Robots-Tag:noindex
X-PUBLISHED-TTL:PT1H
BEGIN:VTIMEZONE
TZID:America/Detroit
BEGIN:DAYLIGHT
TZOFFSETFROM:-0500
TZOFFSETTO:-0400
TZNAME:EDT
DTSTART:20260308T070000
END:DAYLIGHT
BEGIN:STANDARD
TZOFFSETFROM:-0400
TZOFFSETTO:-0500
TZNAME:EST
DTSTART:20261101T060000
END:STANDARD
END:VTIMEZONE
BEGIN:VEVENT
DTSTART;TZID=America/Detroit:20260423T120000
DTEND;TZID=America/Detroit:20260423T190000
DTSTAMP:20260419T083246
CREATED:20260304T163822Z
LAST-MODIFIED:20260304T163822Z
UID:10001938-1776945600-1776970800@lincolnwayvineyards.com
SUMMARY:Glass Blowing Class with Larchmere Fire Works
DESCRIPTION:Create Your Own Glass Art at Lincoln Way Vineyards! \nJoin us for a hands-on glassblowing class led by the talented instructors from Larchmere Fire Works. You’ll get to pick your own colors and craft a unique piece of art: \n• Solid Sculpted Flower – $55 \n• Blown Hanging Ball – $65 \nEach piece will be carefully annealed (slow-cooled in a kiln) and ready for pickup in about 1.5 hours. All materials are provided. As an added bonus\, your first drink is included. Valid for January and February\, tickets pre-purchased through Larchmere Fire Work’s website. \nNote: Classes are done downstairs/indoors so you’ll stay warm and weather isn’t an issue! \nReserve your spot here!
URL:https://lincolnwayvineyards.com/event/glass-blowing-class-with-larchmere-fire-works-2/
LOCATION:Lincoln Way Vineyards\, 9050 W. Old Lincoln Way\, Wooster\, OH\, 44691\, United States
CATEGORIES:Ticketed Events
ATTACH;FMTTYPE=image/webp:https://lincolnwayvineyards.com/wp-content/uploads/2025/10/Glass-Blowing-Class_rev.webp
END:VEVENT
BEGIN:VEVENT
DTSTART;TZID=America/Detroit:20260423T180000
DTEND;TZID=America/Detroit:20260423T200000
DTSTAMP:20260419T083246
CREATED:20260128T172958Z
LAST-MODIFIED:20260128T172958Z
UID:10001904-1776967200-1776974400@lincolnwayvineyards.com
SUMMARY:Spring Candle & Wax Melt Making at Lincoln Way Vineyards
DESCRIPTION:Welcome spring with a relaxing\, creative evening on Thursday\, April 23 at 6 PM at Lincoln Way Vineyards! \nYou’ll make your own candles and wax melts using fresh\, spring-inspired scents—perfect for brightening your home or gifting. Sip wine\, unwind\, and enjoy a fun hands-on experience in a beautiful vineyard setting. \nRegister here: https://omella.com/oa9ho \nSpots are limited—grab a friend and make it a spring night out!
URL:https://lincolnwayvineyards.com/event/spring-candle-making/
LOCATION:Lincoln Way Vineyards\, 9050 W. Old Lincoln Way\, Wooster\, OH\, 44691\, United States
CATEGORIES:Ticketed Events
ATTACH;FMTTYPE=image/webp:https://lincolnwayvineyards.com/wp-content/uploads/2026/01/Candle-Make-N-Take_April-23.webp
END:VEVENT
BEGIN:VEVENT
DTSTART;TZID=America/Detroit:20260423T183000
DTEND;TZID=America/Detroit:20260423T203000
DTSTAMP:20260419T083246
CREATED:20260114T155845Z
LAST-MODIFIED:20260114T155845Z
UID:10001883-1776969000-1776976200@lincolnwayvineyards.com
SUMMARY:April Music Bingo Night
DESCRIPTION:Music Bingo Night at Lincoln Way Vineyards \nGrab your friends and family and join us for a fun-filled Music Bingo Night at Lincoln Way Vineyards! Join us on April 9 and/or April 23. The fun starts at 6:30PM each night and it’s FREE to play! \nIt’s bingo—with a musical twist! Enjoy a night of laughter\, friendly competition\, and great tunes while sipping on your favorite Ohio-made wines\, craft beers\, and hard ciders. Prizes will be awarded to the winners\, so bring your A-game (and your music knowledge)! \nWhether you’re here for the fun\, the drinks\, or both\, it’s the perfect way to #FindYourWineTime this season at Lincoln Way Vineyards.
URL:https://lincolnwayvineyards.com/event/april-music-bingo-night/2026-04-23/
LOCATION:Lincoln Way Vineyards\, 9050 W. Old Lincoln Way\, Wooster\, OH\, 44691\, United States
CATEGORIES:Game Night
ATTACH;FMTTYPE=image/webp:https://lincolnwayvineyards.com/wp-content/uploads/2025/11/Music-Bingo-Night.webp
ORGANIZER;CN="Lincoln Way Vineyards":MAILTO:tastingroom@lincolnwayvineyards.com
END:VEVENT
BEGIN:VEVENT
DTSTART;TZID=America/Detroit:20260424T170000
DTEND;TZID=America/Detroit:20260424T203000
DTSTAMP:20260419T083246
CREATED:20260203T191707Z
LAST-MODIFIED:20260203T191734Z
UID:10001913-1777050000-1777062600@lincolnwayvineyards.com
SUMMARY:Food Truck Friday with BAMtastic Eats and Mental Faculties
DESCRIPTION:Make your Friday night plans at Lincoln Way Vineyards with Food Truck Friday on April 24 for an evening packed with great food\, live music\, and relaxed vineyard vibes. \nBAMtastic Eats will be on-site serving up their popular comfort-style favorites\, while Mental Faculties brings live music to keep the energy going throughout the night. Pair your meal with a glass of wine\, cider\, or craft beer and enjoy an easygoing atmosphere that’s perfect for kicking off the weekend. \n_______________________ \nFood starts at 5pm** \nMusic starts at 6pm \n**Food Truck times are subject to change. Feel free to ask us or check-in with the food truck.**
URL:https://lincolnwayvineyards.com/event/april-24-2026/
LOCATION:Lincoln Way Vineyards\, 9050 W. Old Lincoln Way\, Wooster\, OH\, 44691\, United States
CATEGORIES:Food & Music
ATTACH;FMTTYPE=image/webp:https://lincolnwayvineyards.com/wp-content/uploads/2026/02/4-24-26.webp
ORGANIZER;CN="Lincoln Way Vineyards":MAILTO:tastingroom@lincolnwayvineyards.com
END:VEVENT
BEGIN:VEVENT
DTSTART;TZID=America/Detroit:20260425T100000
DTEND;TZID=America/Detroit:20260425T170000
DTSTAMP:20260419T083246
CREATED:20260325T142255Z
LAST-MODIFIED:20260325T142255Z
UID:10002084-1777111200-1777136400@lincolnwayvineyards.com
SUMMARY:Wayne County Home & Garden Show
DESCRIPTION:Come see us at the Wayne County Home & Garden Show April 25 & 26 at the Wayne County Fair Grounds. \nSaturday April 25 from 10 AM – 5 PM \nSunday\, April 26 from 10 AM – 4 PM \nFREE ADMISSION & FREE PARKING! Learn more here – https://www.woosterchamber.com/wayne-county-home-garden-show
URL:https://lincolnwayvineyards.com/event/wayne-county-home-garden-show/2026-04-25/
LOCATION:Wayne County Fair Grounds\, Wooster\, OH\, 44691\, United States
CATEGORIES:Festivals
ATTACH;FMTTYPE=image/webp:https://lincolnwayvineyards.com/wp-content/uploads/2026/03/Wayne-County-Home-Garden-Show.webp
END:VEVENT
BEGIN:VEVENT
DTSTART;TZID=America/Detroit:20260425T100000
DTEND;TZID=America/Detroit:20260425T180000
DTSTAMP:20260419T083246
CREATED:20260325T142856Z
LAST-MODIFIED:20260325T142856Z
UID:10002086-1777111200-1777140000@lincolnwayvineyards.com
SUMMARY:Carroll County Home & Garden Show
DESCRIPTION:Come see us at the Carroll County Home & Garden Show on Saturday\, April 25 from 10 AM – 6 PM at the Carroll County Fairgrounds. Learn more here – https://www.facebook.com/p/Carroll-County-Home-Garden-Show-61584199836473/.
URL:https://lincolnwayvineyards.com/event/carroll-county-home-garden-show/
LOCATION:Carroll County Fairgrounds\, 160 Kensington Road NE\, Carrollton\, OH\, 44615\, United States
CATEGORIES:Festivals
ATTACH;FMTTYPE=image/webp:https://lincolnwayvineyards.com/wp-content/uploads/2026/03/Carroll-County-Home-Garden-Show.webp
END:VEVENT
BEGIN:VEVENT
DTSTART;TZID=America/Detroit:20260425T170000
DTEND;TZID=America/Detroit:20260425T203000
DTSTAMP:20260419T083246
CREATED:20260203T191834Z
LAST-MODIFIED:20260203T191941Z
UID:10001914-1777136400-1777149000@lincolnwayvineyards.com
SUMMARY:Saturday Tunes and Food with Roger N Robin and Grunt Grub
DESCRIPTION:Close out the month the right way at Lincoln Way Vineyards with Saturday Tunes & Food on April 25. Since it’s the last Saturday of the month\, it’s the perfect excuse to go all in on good food\, great music\, and even better company. \nGrunt Grub will be serving up their crowd-pleasing favorites while Roger N Robin takes the stage with live music to set the tone for a fun\, laid-back evening. Grab your favorite pour\, find your spot\, and settle in for a Saturday night that feels well earned. If you’re going to make one Saturday night count this month\, make it this one. \n_______________________ \nFood starts at 5pm** \nMusic starts at 6pm \n**Food Truck times are subject to change. Feel free to ask us or check-in with the food truck.**
URL:https://lincolnwayvineyards.com/event/april-25-2026/
LOCATION:Lincoln Way Vineyards\, 9050 W. Old Lincoln Way\, Wooster\, OH\, 44691\, United States
CATEGORIES:Food & Music
ATTACH;FMTTYPE=image/webp:https://lincolnwayvineyards.com/wp-content/uploads/2026/02/4-25-26.webp
ORGANIZER;CN="Lincoln Way Vineyards":MAILTO:tastingroom@lincolnwayvineyards.com
END:VEVENT
BEGIN:VEVENT
DTSTART;TZID=America/Detroit:20260426T100000
DTEND;TZID=America/Detroit:20260426T160000
DTSTAMP:20260419T083246
CREATED:20260325T142255Z
LAST-MODIFIED:20260325T142255Z
UID:10002085-1777197600-1777219200@lincolnwayvineyards.com
SUMMARY:Wayne County Home & Garden Show
DESCRIPTION:Come see us at the Wayne County Home & Garden Show April 25 & 26 at the Wayne County Fair Grounds. \nSaturday April 25 from 10 AM – 5 PM \nSunday\, April 26 from 10 AM – 4 PM \nFREE ADMISSION & FREE PARKING! Learn more here – https://www.woosterchamber.com/wayne-county-home-garden-show
URL:https://lincolnwayvineyards.com/event/wayne-county-home-garden-show/2026-04-26/
LOCATION:Wayne County Fair Grounds\, Wooster\, OH\, 44691\, United States
CATEGORIES:Festivals
ATTACH;FMTTYPE=image/webp:https://lincolnwayvineyards.com/wp-content/uploads/2026/03/Wayne-County-Home-Garden-Show.webp
END:VEVENT
BEGIN:VEVENT
DTSTART;TZID=America/Detroit:20260430T180000
DTEND;TZID=America/Detroit:20260430T200000
DTSTAMP:20260419T083246
CREATED:20260120T185338Z
LAST-MODIFIED:20260406T155340Z
UID:10001901-1777572000-1777579200@lincolnwayvineyards.com
SUMMARY:Cinco de Mayo Charcuterie Workshop
DESCRIPTION:Join us for a fun\, hands-on Cinco de Mayo themed charcuterie workshop where you’ll learn to create a stunning board that feeds 2-4 people! All premium supplies—including cured meats\, artisanal cheeses\, fresh fruits\, nuts\, crackers\, spreads\, and garnishes\,—are provided. Watch a live demo and get step-by-step guidance on crafting charcuterie roses\, elegant fruit cutting and impressive food styling techniques to balance flavors\, textures\, and colors for a show-stopping presentation. You will leave this workshop with your beautiful\, fully assembled board\, new skills\, and the confidence to wow at your next gathering—perfect for sharing\, date nights\, or gifting! \nCost: $60/person included all the supplies to make your charcuterie board PLUS your first glass of wine \nTickets on sale below. \n  \nAll ticket sales for Lincoln Way Vineyards events are final and nonrefundable. In the event of unforeseen circumstances\, tickets may be transferable to another person. Please contact us in advance to make arrangements. Lincoln Way Vineyards reserves the right to modify or reschedule events as necessary. By purchasing a ticket\, you agree to these terms.
URL:https://lincolnwayvineyards.com/event/cinco-de-mayo-charcuterie-workshop/
LOCATION:Lincoln Way Vineyards\, 9050 W. Old Lincoln Way\, Wooster\, OH\, 44691\, United States
CATEGORIES:Ticketed Events
ATTACH;FMTTYPE=image/webp:https://lincolnwayvineyards.com/wp-content/uploads/2026/01/April-30.webp
ORGANIZER;CN="Lincoln Way Vineyards":MAILTO:tastingroom@lincolnwayvineyards.com
END:VEVENT
BEGIN:VEVENT
DTSTART;TZID=America/Detroit:20260430T183000
DTEND;TZID=America/Detroit:20260430T203000
DTSTAMP:20260419T083246
CREATED:20260114T161056Z
LAST-MODIFIED:20260114T161137Z
UID:10001892-1777573800-1777581000@lincolnwayvineyards.com
SUMMARY:Euchre Tournament - April
DESCRIPTION:Whether you are a seasoned player or new to the game\, join us at the tasting room for another fun-filled Euchre Tournament! \nFrom 6:30 PM to 8:30 PM\, you and your friends can enjoy free gameplay with prizes for the winners. No registration needed. So\, bring one friend or 10. Enjoy a hand of Euchre with your favorite Lincoln Way Vineyards wine or beverage and you are guaranteed a great time. \nJoin us and Find Your Wine Time®!
URL:https://lincolnwayvineyards.com/event/euchre-tournament-april/2026-04-30/
LOCATION:Lincoln Way Vineyards\, 9050 W. Old Lincoln Way\, Wooster\, OH\, 44691\, United States
CATEGORIES:Game Night
ATTACH;FMTTYPE=image/webp:https://lincolnwayvineyards.com/wp-content/uploads/2025/06/Euchre-Tournament-General.webp
ORGANIZER;CN="Lincoln Way Vineyards":MAILTO:tastingroom@lincolnwayvineyards.com
END:VEVENT
END:VCALENDAR