BEGIN:VCALENDAR
VERSION:2.0
PRODID:-//Lincoln Way Vineyards - ECPv6.10.1.1//NONSGML v1.0//EN
CALSCALE:GREGORIAN
METHOD:PUBLISH
X-ORIGINAL-URL:https://lincolnwayvineyards.com
X-WR-CALDESC:Events for Lincoln Way Vineyards
REFRESH-INTERVAL;VALUE=DURATION:PT1H
X-Robots-Tag:noindex
X-PUBLISHED-TTL:PT1H
BEGIN:VTIMEZONE
TZID:America/Detroit
BEGIN:DAYLIGHT
TZOFFSETFROM:-0500
TZOFFSETTO:-0400
TZNAME:EDT
DTSTART:20260308T070000
END:DAYLIGHT
BEGIN:STANDARD
TZOFFSETFROM:-0400
TZOFFSETTO:-0500
TZNAME:EST
DTSTART:20261101T060000
END:STANDARD
END:VTIMEZONE
BEGIN:VEVENT
DTSTART;TZID=America/Detroit:20260502T150000
DTEND;TZID=America/Detroit:20260502T180000
DTSTAMP:20260425T084023
CREATED:20260407T140114Z
LAST-MODIFIED:20260407T140114Z
UID:10002088-1777734000-1777744800@lincolnwayvineyards.com
SUMMARY:20th Anniversary Vineyard Maze
DESCRIPTION:Come celebrate our 20th anniversary of the planting of our first vines in 2006. Spend part of an afternoon walking in the vines while sampling our 100% Ohio grown wines\, hard ciders and craft beers on Saturday\, May 2 from 3-6PM. \nWhat you get:\nEther 12\, 1oz samples of wine or 6\, 4oz samples of hard cider/beer\, paired with charcuterie selections at 6 different serving locations throughout our largest vineyard block and surrounding woods. An LWV staff member or family member will staff each tasting stop\, providing detailed information about the products being poured and suggested pairings from the charcuterie selections. \nAll of the above for only $29.99/person – purchase tickets below. \nIn case of rain\, the event will be postponed to a rain date or ticket will be refunded. \n  \nAll ticket sales for Lincoln Way Vineyards events are final and nonrefundable. In the event of unforeseen circumstances\, tickets may be transferable to another person. Please contact us in advance to make arrangements. Lincoln Way Vineyards reserves the right to modify or reschedule events as necessary. By purchasing a ticket\, you agree to these terms.
URL:https://lincolnwayvineyards.com/event/anniversary-vineyard-maze/
LOCATION:Lincoln Way Vineyards\, 9050 W. Old Lincoln Way\, Wooster\, OH\, 44691\, United States
CATEGORIES:Ticketed Events
ATTACH;FMTTYPE=image/webp:https://lincolnwayvineyards.com/wp-content/uploads/2026/04/anniversary-vineyard-maze.webp
ORGANIZER;CN="Lincoln Way Vineyards":MAILTO:tastingroom@lincolnwayvineyards.com
END:VEVENT
END:VCALENDAR