BEGIN:VCALENDAR
VERSION:2.0
PRODID:-//Lincoln Way Vineyards - ECPv6.10.1.1//NONSGML v1.0//EN
CALSCALE:GREGORIAN
METHOD:PUBLISH
X-ORIGINAL-URL:https://lincolnwayvineyards.com
X-WR-CALDESC:Events for Lincoln Way Vineyards
REFRESH-INTERVAL;VALUE=DURATION:PT1H
X-Robots-Tag:noindex
X-PUBLISHED-TTL:PT1H
BEGIN:VTIMEZONE
TZID:America/Detroit
BEGIN:DAYLIGHT
TZOFFSETFROM:-0500
TZOFFSETTO:-0400
TZNAME:EDT
DTSTART:20260308T070000
END:DAYLIGHT
BEGIN:STANDARD
TZOFFSETFROM:-0400
TZOFFSETTO:-0500
TZNAME:EST
DTSTART:20261101T060000
END:STANDARD
END:VTIMEZONE
BEGIN:VEVENT
DTSTART;TZID=America/Detroit:20260502T150000
DTEND;TZID=America/Detroit:20260502T180000
DTSTAMP:20260425T083823
CREATED:20260407T140114Z
LAST-MODIFIED:20260407T140114Z
UID:10002088-1777734000-1777744800@lincolnwayvineyards.com
SUMMARY:20th Anniversary Vineyard Maze
DESCRIPTION:Come celebrate our 20th anniversary of the planting of our first vines in 2006. Spend part of an afternoon walking in the vines while sampling our 100% Ohio grown wines\, hard ciders and craft beers on Saturday\, May 2 from 3-6PM. \nWhat you get:\nEther 12\, 1oz samples of wine or 6\, 4oz samples of hard cider/beer\, paired with charcuterie selections at 6 different serving locations throughout our largest vineyard block and surrounding woods. An LWV staff member or family member will staff each tasting stop\, providing detailed information about the products being poured and suggested pairings from the charcuterie selections. \nAll of the above for only $29.99/person – purchase tickets below. \nIn case of rain\, the event will be postponed to a rain date or ticket will be refunded. \n  \nAll ticket sales for Lincoln Way Vineyards events are final and nonrefundable. In the event of unforeseen circumstances\, tickets may be transferable to another person. Please contact us in advance to make arrangements. Lincoln Way Vineyards reserves the right to modify or reschedule events as necessary. By purchasing a ticket\, you agree to these terms.
URL:https://lincolnwayvineyards.com/event/anniversary-vineyard-maze/
LOCATION:Lincoln Way Vineyards\, 9050 W. Old Lincoln Way\, Wooster\, OH\, 44691\, United States
CATEGORIES:Ticketed Events
ATTACH;FMTTYPE=image/webp:https://lincolnwayvineyards.com/wp-content/uploads/2026/04/anniversary-vineyard-maze.webp
ORGANIZER;CN="Lincoln Way Vineyards":MAILTO:tastingroom@lincolnwayvineyards.com
END:VEVENT
BEGIN:VEVENT
DTSTART;TZID=America/Detroit:20260509T100000
DTEND;TZID=America/Detroit:20260509T130000
DTSTAMP:20260425T083823
CREATED:20260406T180118Z
LAST-MODIFIED:20260407T131413Z
UID:10002087-1778320800-1778331600@lincolnwayvineyards.com
SUMMARY:Pre Mother's Day Brunch & Classes
DESCRIPTION:Celebrate Mom a little early with a day full of delicious bites\, creativity\, and vineyard vibes at Lincoln Way Vineyards! \nJoin us on Saturday\, May 9th for our Pre-Mother’s Day Brunch & Classes\, the perfect way to gather with friends\, treat Mom\, or enjoy a well-deserved day out. \nBrunch Details\nBuffet served from 10:00 AM – 12:30 PM (last seating at noon) \nEnjoy a beautifully curated spread featuring:French toast\, waffles\, sausage links\, ham slices\, hashbrowns\, mini quiche\, chicken salad made with grapes on mini croissants\, cucumber and egg salad tea sandwiches\, strawberry salad\, a fruit & cheese board\, plus juices and coffee. Alcohol sold separately. \nBrunch Pricing (no alcohol included): \n\n$27.50 presale (through May 6)\n$35 at the door (day of\, if available)\n\nAfternoon Classes – Begin at 1:00 PM –\nKeep the fun going with one of our hands-on creative classes: \n Painting with Taylor Bash – Class only price $40 \nJoin instructor Taylor Bash for a fun\, step-by-step painting class where you’ll create a beautiful spring-inspired canvas featuring butterflies and florals—no experience necessary. \n Cut Flower Arranging with Rachel from Gabel Crest Gardens – Class only price $50 \nLearn to design a spring vase arrangement in this hands-on workshop. \n Wine Bottle Dipping & Decorating with Cheryl from Bliss in a Bottle – Class only price $80 \nGuests will participate in a guided mini chocolate session and create their own dipped bottle to take home. \n✨ All classes must be pre-registered and include your choice of a glass of wine\, hard cider\, beer\, small wine slushie\, or a non-alcoholic option. \nBrunch + Class Packages\nMake a day of it and save with our bundled options: \n\nBrunch + Painting – $62\nBrunch + Flower Arranging – $72\nBrunch + Wine Bottle Decorating – $102\n\n  \nDrink Specials\nWe’ll be featuring Mimosa Flights\, Winearitas\, and NEW this year—Bloody Mary specials available all day long! \nSpots are limited for both brunch and classes\, so be sure to reserve early and make this Mother’s Day celebration one to remember. \n  \nAll ticket sales for Lincoln Way Vineyards events are final and nonrefundable. In the event of unforeseen circumstances\, tickets may be transferable to another person. Please contact us in advance to make arrangements. Lincoln Way Vineyards reserves the right to modify or reschedule events as necessary. By purchasing a ticket\, you agree to these terms.
URL:https://lincolnwayvineyards.com/event/mothersday2026/
LOCATION:Lincoln Way Vineyards\, 9050 W. Old Lincoln Way\, Wooster\, OH\, 44691\, United States
CATEGORIES:Ticketed Events
ATTACH;FMTTYPE=image/webp:https://lincolnwayvineyards.com/wp-content/uploads/2026/04/pre-mothers-day-brunch.webp
ORGANIZER;CN="Lincoln Way Vineyards":MAILTO:tastingroom@lincolnwayvineyards.com
END:VEVENT
BEGIN:VEVENT
DTSTART;TZID=America/Detroit:20260509T130000
DTEND;TZID=America/Detroit:20260509T143000
DTSTAMP:20260425T083823
CREATED:20260417T143452Z
LAST-MODIFIED:20260417T145011Z
UID:10002090-1778331600-1778337000@lincolnwayvineyards.com
SUMMARY:Pre Mother's Day Flower Arranging Class
DESCRIPTION:Celebrate Mother’s Day weekend with a creative escape at Lincoln Way Vineyards! Join us on May 9th at 1PM for a Pre-Mother’s Day Flower Arranging Class led by Rachel from Gabel Crest Gardens. \nIn this hands-on workshop\, you’ll learn how to design a beautiful spring vase arrangement to take home and enjoy. Your ticket includes your first glass of wine\, so you can sip\, relax\, and create in a fun\, welcoming atmosphere. \nGather your friends\, bring Mom\, and enjoy an afternoon of blooms and wine at the vineyard! \nReserve your spot below! \n**Please note this is for the Flower Arrangement class only\, it does NOT include brunch. If you’re interested in brunch too\, check out this event to purchase tickets – Pre Mother’s Day Brunch & Classes ** \nAll ticket sales for Lincoln Way Vineyards events are final and nonrefundable. In the event of unforeseen circumstances\, tickets may be transferable to another person. Please contact us in advance to make arrangements. Lincoln Way Vineyards reserves the right to modify or reschedule events as necessary. By purchasing a ticket\, you agree to these terms.
URL:https://lincolnwayvineyards.com/event/flower-arranging-class/
LOCATION:Lincoln Way Vineyards\, 9050 W. Old Lincoln Way\, Wooster\, OH\, 44691\, United States
CATEGORIES:Ticketed Events
ATTACH;FMTTYPE=image/webp:https://lincolnwayvineyards.com/wp-content/uploads/2026/04/Flower-Arranging-Class-Mothers-Day.webp
ORGANIZER;CN="Lincoln Way Vineyards":MAILTO:tastingroom@lincolnwayvineyards.com
END:VEVENT
BEGIN:VEVENT
DTSTART;TZID=America/Detroit:20260509T130000
DTEND;TZID=America/Detroit:20260509T150000
DTSTAMP:20260425T083823
CREATED:20260417T141756Z
LAST-MODIFIED:20260417T142212Z
UID:10002089-1778331600-1778338800@lincolnwayvineyards.com
SUMMARY:Pre Mother's Day Painting with Taylor Bash
DESCRIPTION:Celebrate Mother’s Day weekend with a creative escape at Lincoln Way Vineyards! Join us for a step-by-step painting class led by artist/instructor Taylor Bash\, where you’ll create a beautiful spring-inspired canvas featuring butterflies and florals\, no experience needed. \nYour ticket includes a glass of wine\, and we’ll provide all the painting supplies. Whether you’re a seasoned artist or just in it for the fun\, this class is designed to be relaxed\, welcoming\, and enjoyable for everyone. \nGrab Mom\, gather your friends\, sip some wine\, and make it a memorable afternoon at the vineyard. \nReserve your spot below! \n**Please note this is for the painting class only\, it does NOT include brunch. If you’re interested in brunch too\, check out this event to purchase tickets – Pre Mother’s Day Brunch & Classes ** \nAll ticket sales for Lincoln Way Vineyards events are final and nonrefundable. In the event of unforeseen circumstances\, tickets may be transferable to another person. Please contact us in advance to make arrangements. Lincoln Way Vineyards reserves the right to modify or reschedule events as necessary. By purchasing a ticket\, you agree to these terms.
URL:https://lincolnwayvineyards.com/event/pre-mothers-day-painting/
LOCATION:Lincoln Way Vineyards\, 9050 W. Old Lincoln Way\, Wooster\, OH\, 44691\, United States
CATEGORIES:Ticketed Events
ATTACH;FMTTYPE=image/webp:https://lincolnwayvineyards.com/wp-content/uploads/2026/04/Painting-with-Taylor-Mothers-Day.webp
ORGANIZER;CN="Lincoln Way Vineyards":MAILTO:tastingroom@lincolnwayvineyards.com
END:VEVENT
BEGIN:VEVENT
DTSTART;TZID=America/Detroit:20260509T130000
DTEND;TZID=America/Detroit:20260509T150000
DTSTAMP:20260425T083823
CREATED:20260417T144503Z
LAST-MODIFIED:20260417T144503Z
UID:10002091-1778331600-1778338800@lincolnwayvineyards.com
SUMMARY:Pre Mother's Day Wine Bottle Dipping & Decorating
DESCRIPTION:Celebrate Mother’s Day weekend with a creative escape at Lincoln Way Vineyards! Join us on May 9th at 1PM for a Pre-Mother’s Day Wine Bottle Dipping & Decorating class with Cheryl from Bliss in a Bottle. \nIn this hands-on experience\, you’ll enjoy a guided mini chocolate session and create your own beautifully chocolate dipped and decorated wine bottle to take home. Your ticket includes your first glass of wine\, so you can sip\, relax\, and get creative in a fun\, welcoming atmosphere. \nBring Mom or gather your friends for a sweet and memorable afternoon at the vineyard! \nReserve your spot below! \n**Please note this is for the Wine Bottle Dipping class only\, it does NOT include brunch. If you’re interested in brunch too\, check out this event to purchase tickets – Pre Mother’s Day Brunch & Classes ** \nAll ticket sales for Lincoln Way Vineyards events are final and nonrefundable. In the event of unforeseen circumstances\, tickets may be transferable to another person. Please contact us in advance to make arrangements. Lincoln Way Vineyards reserves the right to modify or reschedule events as necessary. By purchasing a ticket\, you agree to these terms.
URL:https://lincolnwayvineyards.com/event/wine-bottle-dipping-decorating/
LOCATION:Lincoln Way Vineyards\, 9050 W. Old Lincoln Way\, Wooster\, OH\, 44691\, United States
CATEGORIES:Ticketed Events
ATTACH;FMTTYPE=image/webp:https://lincolnwayvineyards.com/wp-content/uploads/2026/04/Wine-bottle-dipping-Mothers-Day.webp
ORGANIZER;CN="Lincoln Way Vineyards":MAILTO:tastingroom@lincolnwayvineyards.com
END:VEVENT
BEGIN:VEVENT
DTSTART;TZID=America/Detroit:20260514T180000
DTEND;TZID=America/Detroit:20260514T200000
DTSTAMP:20260425T083823
CREATED:20260128T173216Z
LAST-MODIFIED:20260128T173234Z
UID:10001905-1778781600-1778788800@lincolnwayvineyards.com
SUMMARY:Plant-Based Soap Making at Lincoln Way Vineyards
DESCRIPTION:Join us for a relaxing\, hands-on evening on Thursday\, May 14 at 6 PM at Lincoln Way Vineyards! \nYou’ll create 6 plant-based soaps using essential oils\, inspired by fresh\, uplifting seasonal scents—perfect for everyday self-care or thoughtful gifts. \nSip wine\, unwind\, and enjoy a creative night in a beautiful vineyard setting. \nRegister here: https://omella.com/w3vg0 \nSpots are limited—bring a friend and make it a feel-good night out!
URL:https://lincolnwayvineyards.com/event/soap-making/
LOCATION:Lincoln Way Vineyards\, 9050 W. Old Lincoln Way\, Wooster\, OH\, 44691\, United States
CATEGORIES:Ticketed Events
ATTACH;FMTTYPE=image/webp:https://lincolnwayvineyards.com/wp-content/uploads/2026/01/Soap-Make-N-Take_May-14.webp
END:VEVENT
END:VCALENDAR