BEGIN:VCALENDAR
VERSION:2.0
PRODID:-//Lincoln Way Vineyards - ECPv6.10.1.1//NONSGML v1.0//EN
CALSCALE:GREGORIAN
METHOD:PUBLISH
X-WR-CALNAME:Lincoln Way Vineyards
X-ORIGINAL-URL:https://lincolnwayvineyards.com
X-WR-CALDESC:Events for Lincoln Way Vineyards
REFRESH-INTERVAL;VALUE=DURATION:PT1H
X-Robots-Tag:noindex
X-PUBLISHED-TTL:PT1H
BEGIN:VTIMEZONE
TZID:America/Detroit
BEGIN:DAYLIGHT
TZOFFSETFROM:-0500
TZOFFSETTO:-0400
TZNAME:EDT
DTSTART:20260308T070000
END:DAYLIGHT
BEGIN:STANDARD
TZOFFSETFROM:-0400
TZOFFSETTO:-0500
TZNAME:EST
DTSTART:20261101T060000
END:STANDARD
END:VTIMEZONE
BEGIN:VEVENT
DTSTART;TZID=America/Detroit:20260509T170000
DTEND;TZID=America/Detroit:20260509T203000
DTSTAMP:20260425T203850
CREATED:20260203T193010Z
LAST-MODIFIED:20260203T193033Z
UID:10001918-1778346000-1778358600@lincolnwayvineyards.com
SUMMARY:Saturday Tunes and Food with Steve Baxter and Sam Stephenson Music and On The Rise Bar-B-Que
DESCRIPTION:Settle into your Saturday at Lincoln Way Vineyards with Saturday Tunes & Food\, featuring live music from Steve Baxter and Sam Stephenson Music and savory eats from On The Rise Bar-B-Que. \nEnjoy the rich\, smoky flavors of slow-cooked BBQ while sipping your favorite wine\, cider\, or craft beer. Steve Baxter and Sam Stephenson will bring a laid-back\, feel-good mix of music that pairs perfectly with an evening of good conversation\, easy laughs\, and time well spent. \nWhether you’re catching up with friends or just carving out a little time to unwind\, this is the kind of Saturday that hits all the right notes. \n_______________________ \nFood starts at 5pm** \nMusic starts at 6pm \n**Food Truck times are subject to change. Feel free to ask us or check-in with the food truck.**
URL:https://lincolnwayvineyards.com/event/may-9-2026/
LOCATION:Lincoln Way Vineyards\, 9050 W. Old Lincoln Way\, Wooster\, OH\, 44691\, United States
CATEGORIES:Food & Music
ATTACH;FMTTYPE=image/webp:https://lincolnwayvineyards.com/wp-content/uploads/2026/02/5-9-26.webp
ORGANIZER;CN="Lincoln Way Vineyards":MAILTO:tastingroom@lincolnwayvineyards.com
END:VEVENT
END:VCALENDAR