BEGIN:VCALENDAR
VERSION:2.0
PRODID:-//Lincoln Way Vineyards - ECPv6.10.1.1//NONSGML v1.0//EN
CALSCALE:GREGORIAN
METHOD:PUBLISH
X-WR-CALNAME:Lincoln Way Vineyards
X-ORIGINAL-URL:https://lincolnwayvineyards.com
X-WR-CALDESC:Events for Lincoln Way Vineyards
REFRESH-INTERVAL;VALUE=DURATION:PT1H
X-Robots-Tag:noindex
X-PUBLISHED-TTL:PT1H
BEGIN:VTIMEZONE
TZID:America/Detroit
BEGIN:DAYLIGHT
TZOFFSETFROM:-0500
TZOFFSETTO:-0400
TZNAME:EDT
DTSTART:20260308T070000
END:DAYLIGHT
BEGIN:STANDARD
TZOFFSETFROM:-0400
TZOFFSETTO:-0500
TZNAME:EST
DTSTART:20261101T060000
END:STANDARD
END:VTIMEZONE
BEGIN:VEVENT
DTSTART;TZID=America/Detroit:20260404T170000
DTEND;TZID=America/Detroit:20260404T203000
DTSTAMP:20260425T104708
CREATED:20260203T190633Z
LAST-MODIFIED:20260203T192055Z
UID:10001908-1775322000-1775334600@lincolnwayvineyards.com
SUMMARY:Saturday Tunes and Food with EKG and Moto Pizza
DESCRIPTION:Make a full day of it at Lincoln Way Vineyards on Saturday with Saturday Tunes & Food featuring EKG and Moto Pizza—and yes\, it’s Easter weekend\, so the fun starts early and lasts into the evening! \nEarlier in the day\, we’re hosting our always-popular Adult Easter Egg Hunt. If you snagged tickets for the hunt (ticket sales coming soon)\, don’t rush off—stick around and keep the celebration going. Moto Pizza will be serving up delicious food starting at 5:00 PM\, and EKG will hit the stage with live music at 6:00 PM. \nWhether you’re spending the day hunting eggs or just stopping by for dinner and music\, it’s the perfect way to relax\, unwind\, and enjoy the holiday weekend.  \n_______________________ \nFood starts at 5pm** \nMusic starts at 6pm \n**Food Truck times are subject to change. Feel free to ask us or check-in with the food truck.**
URL:https://lincolnwayvineyards.com/event/april-4-2026/
LOCATION:Lincoln Way Vineyards\, 9050 W. Old Lincoln Way\, Wooster\, OH\, 44691\, United States
CATEGORIES:Food & Music
ATTACH;FMTTYPE=image/webp:https://lincolnwayvineyards.com/wp-content/uploads/2026/02/4-4-26.webp
ORGANIZER;CN="Lincoln Way Vineyards":MAILTO:tastingroom@lincolnwayvineyards.com
END:VEVENT
END:VCALENDAR