BEGIN:VCALENDAR
VERSION:2.0
PRODID:-//Lincoln Way Vineyards - ECPv6.10.1.1//NONSGML v1.0//EN
CALSCALE:GREGORIAN
METHOD:PUBLISH
X-ORIGINAL-URL:https://lincolnwayvineyards.com
X-WR-CALDESC:Events for Lincoln Way Vineyards
REFRESH-INTERVAL;VALUE=DURATION:PT1H
X-Robots-Tag:noindex
X-PUBLISHED-TTL:PT1H
BEGIN:VTIMEZONE
TZID:America/Detroit
BEGIN:DAYLIGHT
TZOFFSETFROM:-0500
TZOFFSETTO:-0400
TZNAME:EDT
DTSTART:20260308T070000
END:DAYLIGHT
BEGIN:STANDARD
TZOFFSETFROM:-0400
TZOFFSETTO:-0500
TZNAME:EST
DTSTART:20261101T060000
END:STANDARD
END:VTIMEZONE
BEGIN:VEVENT
DTSTART;TZID=America/Detroit:20260327T170000
DTEND;TZID=America/Detroit:20260327T203000
DTSTAMP:20260422T014702
CREATED:20251211T171133Z
LAST-MODIFIED:20251229T132833Z
UID:10001866-1774630800-1774643400@lincolnwayvineyards.com
SUMMARY:Food Truck Friday with Holy Lederhosen and The Oolong Gurus
DESCRIPTION:March is winding down and spring vibes are in the air—maybe you’re on spring break\, or just ready for one! Celebrate the start of the weekend at Lincoln Way Vineyards with tasty food and good times. \nHoly Lederhosen will be serving their Bavarian-American favorites starting at 5 PM\, with live music from The Oolong Gurus kicking off at 6 PM. \nCome enjoy Ohio-made wine\, hard ciders\, or craft beer\, relax with friends\, and let the weekend officially begin. \n_______________________ \nFood starts at 5pm** \nMusic starts at 6pm \n**Food Truck times are subject to change. Feel free to ask us or check-in with the food truck.**
URL:https://lincolnwayvineyards.com/event/march-27-2026/
LOCATION:Lincoln Way Vineyards\, 9050 W. Old Lincoln Way\, Wooster\, OH\, 44691\, United States
CATEGORIES:Food & Music
ATTACH;FMTTYPE=image/webp:https://lincolnwayvineyards.com/wp-content/uploads/2025/12/3-27-26-1.webp
ORGANIZER;CN="Lincoln Way Vineyards":MAILTO:tastingroom@lincolnwayvineyards.com
END:VEVENT
END:VCALENDAR