BEGIN:VCALENDAR
VERSION:2.0
PRODID:-//Lincoln Way Vineyards - ECPv6.10.1.1//NONSGML v1.0//EN
CALSCALE:GREGORIAN
METHOD:PUBLISH
X-WR-CALNAME:Lincoln Way Vineyards
X-ORIGINAL-URL:https://lincolnwayvineyards.com
X-WR-CALDESC:Events for Lincoln Way Vineyards
REFRESH-INTERVAL;VALUE=DURATION:PT1H
X-Robots-Tag:noindex
X-PUBLISHED-TTL:PT1H
BEGIN:VTIMEZONE
TZID:America/Detroit
BEGIN:DAYLIGHT
TZOFFSETFROM:-0500
TZOFFSETTO:-0400
TZNAME:EDT
DTSTART:20260308T070000
END:DAYLIGHT
BEGIN:STANDARD
TZOFFSETFROM:-0400
TZOFFSETTO:-0500
TZNAME:EST
DTSTART:20261101T060000
END:STANDARD
END:VTIMEZONE
BEGIN:VEVENT
DTSTART;TZID=America/Detroit:20260501T170000
DTEND;TZID=America/Detroit:20260501T203000
DTSTAMP:20260421T194249
CREATED:20260203T192452Z
LAST-MODIFIED:20260203T195029Z
UID:10001915-1777654800-1777667400@lincolnwayvineyards.com
SUMMARY:Food Truck Friday with Moto Pizza and Those Knighted
DESCRIPTION:Hello\, May — and what better way to welcome a new month than Food Truck Friday at Lincoln Way Vineyards. \nShake off the workweek and lean into those early-summer feelings with Moto Pizza slinging their fan-favorite pies and Those Knighted bringing live music to set the tone for the night. Longer days\, warmer air\, and music drifting through the vineyard… this is what May is made for. \nGrab a glass of wine\, cider\, or craft beer\, catch up with friends\, and enjoy a Friday that feels fresh\, fun\, and full of promise. No rush\, no tickets—just good food\, good tunes\, and the start of a great month at the vineyard. \n_______________________ \nFood starts at 5pm** \nMusic starts at 6pm \n**Food Truck times are subject to change. Feel free to ask us or check-in with the food truck.**
URL:https://lincolnwayvineyards.com/event/may-1-2026/
LOCATION:Lincoln Way Vineyards\, 9050 W. Old Lincoln Way\, Wooster\, OH\, 44691\, United States
CATEGORIES:Food & Music
ATTACH;FMTTYPE=image/webp:https://lincolnwayvineyards.com/wp-content/uploads/2026/02/5-1-26.webp
ORGANIZER;CN="Lincoln Way Vineyards":MAILTO:tastingroom@lincolnwayvineyards.com
END:VEVENT
END:VCALENDAR