BEGIN:VCALENDAR
VERSION:2.0
PRODID:-//Lincoln Way Vineyards - ECPv6.10.1.1//NONSGML v1.0//EN
CALSCALE:GREGORIAN
METHOD:PUBLISH
X-WR-CALNAME:Lincoln Way Vineyards
X-ORIGINAL-URL:https://lincolnwayvineyards.com
X-WR-CALDESC:Events for Lincoln Way Vineyards
REFRESH-INTERVAL;VALUE=DURATION:PT1H
X-Robots-Tag:noindex
X-PUBLISHED-TTL:PT1H
BEGIN:VTIMEZONE
TZID:America/Detroit
BEGIN:DAYLIGHT
TZOFFSETFROM:-0500
TZOFFSETTO:-0400
TZNAME:EDT
DTSTART:20260308T070000
END:DAYLIGHT
BEGIN:STANDARD
TZOFFSETFROM:-0400
TZOFFSETTO:-0500
TZNAME:EST
DTSTART:20261101T060000
END:STANDARD
END:VTIMEZONE
BEGIN:VEVENT
DTSTART;TZID=America/Detroit:20260425T100000
DTEND;TZID=America/Detroit:20260425T170000
DTSTAMP:20260421T194514
CREATED:20260325T142255Z
LAST-MODIFIED:20260325T142255Z
UID:10002084-1777111200-1777136400@lincolnwayvineyards.com
SUMMARY:Wayne County Home & Garden Show
DESCRIPTION:Come see us at the Wayne County Home & Garden Show April 25 & 26 at the Wayne County Fair Grounds. \nSaturday April 25 from 10 AM – 5 PM \nSunday\, April 26 from 10 AM – 4 PM \nFREE ADMISSION & FREE PARKING! Learn more here – https://www.woosterchamber.com/wayne-county-home-garden-show
URL:https://lincolnwayvineyards.com/event/wayne-county-home-garden-show/2026-04-25/
LOCATION:Wayne County Fair Grounds\, Wooster\, OH\, 44691\, United States
CATEGORIES:Festivals
ATTACH;FMTTYPE=image/webp:https://lincolnwayvineyards.com/wp-content/uploads/2026/03/Wayne-County-Home-Garden-Show.webp
END:VEVENT
BEGIN:VEVENT
DTSTART;TZID=America/Detroit:20260425T100000
DTEND;TZID=America/Detroit:20260425T180000
DTSTAMP:20260421T194514
CREATED:20260325T142856Z
LAST-MODIFIED:20260325T142856Z
UID:10002086-1777111200-1777140000@lincolnwayvineyards.com
SUMMARY:Carroll County Home & Garden Show
DESCRIPTION:Come see us at the Carroll County Home & Garden Show on Saturday\, April 25 from 10 AM – 6 PM at the Carroll County Fairgrounds. Learn more here – https://www.facebook.com/p/Carroll-County-Home-Garden-Show-61584199836473/.
URL:https://lincolnwayvineyards.com/event/carroll-county-home-garden-show/
LOCATION:Carroll County Fairgrounds\, 160 Kensington Road NE\, Carrollton\, OH\, 44615\, United States
CATEGORIES:Festivals
ATTACH;FMTTYPE=image/webp:https://lincolnwayvineyards.com/wp-content/uploads/2026/03/Carroll-County-Home-Garden-Show.webp
END:VEVENT
BEGIN:VEVENT
DTSTART;TZID=America/Detroit:20260425T170000
DTEND;TZID=America/Detroit:20260425T203000
DTSTAMP:20260421T194514
CREATED:20260203T191834Z
LAST-MODIFIED:20260203T191941Z
UID:10001914-1777136400-1777149000@lincolnwayvineyards.com
SUMMARY:Saturday Tunes and Food with Roger N Robin and Grunt Grub
DESCRIPTION:Close out the month the right way at Lincoln Way Vineyards with Saturday Tunes & Food on April 25. Since it’s the last Saturday of the month\, it’s the perfect excuse to go all in on good food\, great music\, and even better company. \nGrunt Grub will be serving up their crowd-pleasing favorites while Roger N Robin takes the stage with live music to set the tone for a fun\, laid-back evening. Grab your favorite pour\, find your spot\, and settle in for a Saturday night that feels well earned. If you’re going to make one Saturday night count this month\, make it this one. \n_______________________ \nFood starts at 5pm** \nMusic starts at 6pm \n**Food Truck times are subject to change. Feel free to ask us or check-in with the food truck.**
URL:https://lincolnwayvineyards.com/event/april-25-2026/
LOCATION:Lincoln Way Vineyards\, 9050 W. Old Lincoln Way\, Wooster\, OH\, 44691\, United States
CATEGORIES:Food & Music
ATTACH;FMTTYPE=image/webp:https://lincolnwayvineyards.com/wp-content/uploads/2026/02/4-25-26.webp
ORGANIZER;CN="Lincoln Way Vineyards":MAILTO:tastingroom@lincolnwayvineyards.com
END:VEVENT
END:VCALENDAR