BEGIN:VCALENDAR
VERSION:2.0
PRODID:-//Lincoln Way Vineyards - ECPv6.10.1.1//NONSGML v1.0//EN
CALSCALE:GREGORIAN
METHOD:PUBLISH
X-ORIGINAL-URL:https://lincolnwayvineyards.com
X-WR-CALDESC:Events for Lincoln Way Vineyards
REFRESH-INTERVAL;VALUE=DURATION:PT1H
X-Robots-Tag:noindex
X-PUBLISHED-TTL:PT1H
BEGIN:VTIMEZONE
TZID:America/Detroit
BEGIN:DAYLIGHT
TZOFFSETFROM:-0500
TZOFFSETTO:-0400
TZNAME:EDT
DTSTART:20260308T070000
END:DAYLIGHT
BEGIN:STANDARD
TZOFFSETFROM:-0400
TZOFFSETTO:-0500
TZNAME:EST
DTSTART:20261101T060000
END:STANDARD
END:VTIMEZONE
BEGIN:VEVENT
DTSTART;TZID=America/Detroit:20260403T170000
DTEND;TZID=America/Detroit:20260403T203000
DTSTAMP:20260419T100706
CREATED:20260203T190416Z
LAST-MODIFIED:20260203T192027Z
UID:10001907-1775235600-1775248200@lincolnwayvineyards.com
SUMMARY:Food Truck Friday with Moto Pizza and Gary Bonewitz
DESCRIPTION:Join us for Food Truck Friday at Lincoln Way Vineyards on Friday\, April 3\, and kick off your holiday weekend with great food\, live music\, and time together. Since it’s Good Friday\, it’s the perfect evening to slow down\, relax\, and gather with family and friends. \nMoto Pizza will be serving up their fan-favorite pies starting at 5:00 PM\, and Gary Bonewitz will take the stage with live music beginning at 6:00 PM. Grab a glass of wine\, cider\, or beer\, find a seat\, and enjoy an easygoing night in the vineyard. \nHave family in town for the holiday weekend? Bring them along! There’s no better way to welcome visitors than sharing good food\, great music\, and a laid-back atmosphere at the winery. \nNo tickets required—just come out\, Find Your Wine Time®\, and enjoy the evening with us. \n_______________________ \nFood starts at 5pm** \nMusic starts at 6pm \n**Food Truck times are subject to change. Feel free to ask us or check-in with the food truck.**
URL:https://lincolnwayvineyards.com/event/april-3-2026/
LOCATION:Lincoln Way Vineyards\, 9050 W. Old Lincoln Way\, Wooster\, OH\, 44691\, United States
CATEGORIES:Food & Music
ATTACH;FMTTYPE=image/webp:https://lincolnwayvineyards.com/wp-content/uploads/2026/02/4-3-26.webp
ORGANIZER;CN="Lincoln Way Vineyards":MAILTO:tastingroom@lincolnwayvineyards.com
END:VEVENT
END:VCALENDAR