BEGIN:VCALENDAR
VERSION:2.0
PRODID:-//Lincoln Way Vineyards - ECPv6.10.1.1//NONSGML v1.0//EN
CALSCALE:GREGORIAN
METHOD:PUBLISH
X-ORIGINAL-URL:https://lincolnwayvineyards.com
X-WR-CALDESC:Events for Lincoln Way Vineyards
REFRESH-INTERVAL;VALUE=DURATION:PT1H
X-Robots-Tag:noindex
X-PUBLISHED-TTL:PT1H
BEGIN:VTIMEZONE
TZID:America/Detroit
BEGIN:DAYLIGHT
TZOFFSETFROM:-0500
TZOFFSETTO:-0400
TZNAME:EDT
DTSTART:20260308T070000
END:DAYLIGHT
BEGIN:STANDARD
TZOFFSETFROM:-0400
TZOFFSETTO:-0500
TZNAME:EST
DTSTART:20261101T060000
END:STANDARD
END:VTIMEZONE
BEGIN:VEVENT
DTSTART;TZID=America/Detroit:20260402T180000
DTEND;TZID=America/Detroit:20260402T200000
DTSTAMP:20260419T100706
CREATED:20260120T184844Z
LAST-MODIFIED:20260406T153804Z
UID:10001900-1775152800-1775160000@lincolnwayvineyards.com
SUMMARY:Easter Charcuterie Workshop
DESCRIPTION:Join us for a fun\, hands-on Easter themed charcuterie workshop where you’ll learn to create a stunning board that feeds 2-4 people! All premium supplies—including cured meats\, artisanal cheeses\, fresh fruits\, nuts\, crackers\, spreads\, and garnishes\,—are provided. Watch a live demo and get step-by-step guidance on crafting charcuterie roses\, elegant fruit cutting and impressive food styling techniques to balance flavors\, textures\, and colors for a show-stopping presentation. You will leave this workshop with your beautiful\, fully assembled board\, new skills\, and the confidence to wow at your next gathering—perfect for sharing\, date nights\, or gifting! \nCost: $60/person included all the supplies to make your charcuterie board PLUS your first glass of wine \nTickets on sale below. \n  \nAll ticket sales for Lincoln Way Vineyards events are final and nonrefundable. In the event of unforeseen circumstances\, tickets may be transferable to another person. Please contact us in advance to make arrangements. Lincoln Way Vineyards reserves the right to modify or reschedule events as necessary. By purchasing a ticket\, you agree to these terms.
URL:https://lincolnwayvineyards.com/event/easter-charcuterie-workshop/
LOCATION:Lincoln Way Vineyards\, 9050 W. Old Lincoln Way\, Wooster\, OH\, 44691\, United States
ATTACH;FMTTYPE=image/webp:https://lincolnwayvineyards.com/wp-content/uploads/2026/01/April-2.webp
ORGANIZER;CN="Lincoln Way Vineyards":MAILTO:tastingroom@lincolnwayvineyards.com
END:VEVENT
BEGIN:VEVENT
DTSTART;TZID=America/Detroit:20260402T183000
DTEND;TZID=America/Detroit:20260402T203000
DTSTAMP:20260419T100706
CREATED:20260114T161056Z
LAST-MODIFIED:20260114T161137Z
UID:10001890-1775154600-1775161800@lincolnwayvineyards.com
SUMMARY:Euchre Tournament - April
DESCRIPTION:Whether you are a seasoned player or new to the game\, join us at the tasting room for another fun-filled Euchre Tournament! \nFrom 6:30 PM to 8:30 PM\, you and your friends can enjoy free gameplay with prizes for the winners. No registration needed. So\, bring one friend or 10. Enjoy a hand of Euchre with your favorite Lincoln Way Vineyards wine or beverage and you are guaranteed a great time. \nJoin us and Find Your Wine Time®!
URL:https://lincolnwayvineyards.com/event/euchre-tournament-april/2026-04-02/
LOCATION:Lincoln Way Vineyards\, 9050 W. Old Lincoln Way\, Wooster\, OH\, 44691\, United States
CATEGORIES:Game Night
ATTACH;FMTTYPE=image/webp:https://lincolnwayvineyards.com/wp-content/uploads/2025/06/Euchre-Tournament-General.webp
ORGANIZER;CN="Lincoln Way Vineyards":MAILTO:tastingroom@lincolnwayvineyards.com
END:VEVENT
END:VCALENDAR